Workbook

Sheet 원본
A1: 기록번호 | B1: 날짜 | C1: 상품 | D1: 수량 | E1: 단가(원)
A2: O201 | B2: 46328 | C2: 유자차 | D2: 2 | E2: 4500
A3: O202 | B3: 46328 | C3: 머그컵 | D3: 1 | E3: 12000
A4: O203 | B4: 46329 | C4: 유자차 | D4: 0 | E4: 4500
A5: O204 | B5: 46329 | C5: 티백 | D5: 3
A6: O205 | B6: 46330 | C6: 머그컵 | E6: 12000
A7: O206 | B7: 46330 | C7: 티백 | D7: 확인 중 | E7: 3500
A8: O207 | B8: 11/5 | C8: 유자차 | D8: 1 | E8: 4500
A9: O208 | B9: 46331 | C9: 티백 | D9: 4 | E9: 3500
A10: O209 | B10: 46326 | C10: 유자차 | D10: 3 | E10: 4500
A11: O210 | B11: 46332 | C11: 티백 | D11: -1 | E11: 3500

Sheet 계산표
A1: 원본행 | B1: 기록번호 | C1: 날짜 | D1: 상품 | E1: 수량 | F1: 단가(원) | G1: 금액(원) | H1: 확인할 점
A2: =ROW('원본'!A2) | B2: =IF(ISBLANK('원본'!A2),"",'원본'!A2) | C2: =IF(ISBLANK('원본'!B2),"",'원본'!B2) | D2: =IF(ISBLANK('원본'!C2),"",'원본'!C2) | E2: 5 | F2: 4500 | G2: =IF(H2="정상",E2*F2,"") | H2: =IF(C2="","날짜 빈칸",IF(NOT(AND(ISNUMBER(C2),IFERROR(C2=INT(C2),FALSE),IFERROR(C2>=DATE(2000,1,1),FALSE),IFERROR(C2<DATE(2101,1,1),FALSE))),"날짜 값 오류",IF(D2="","상품 빈칸",IF(AND(E2="",NOT(ISNUMBER(E2))),"수량 빈칸",IF(NOT(ISNUMBER(E2)),"수량 값 오류",IF(E2<0,"수량 음수",IF(NOT(AND(ISNUMBER(E2),IFERROR(E2>=0,FALSE),IFERROR(E2=INT(E2),FALSE))),"수량 값 오류",IF(AND(F2="",NOT(ISNUMBER(F2))),"단가 빈칸",IF(NOT(ISNUMBER(F2)),"단가 값 오류",IF(F2<0,"단가 음수",IF(NOT(AND(ISNUMBER(F2),IFERROR(F2>=0,FALSE),IFERROR(F2=INT(F2),FALSE))),"단가 값 오류","정상")))))))))))
A3: =ROW('원본'!A3) | B3: =IF(ISBLANK('원본'!A3),"",'원본'!A3) | C3: =IF(ISBLANK('원본'!B3),"",'원본'!B3) | D3: =IF(ISBLANK('원본'!C3),"",'원본'!C3) | E3: 1 | F3: 12000 | G3: =IF(H3="정상",E3*F3,"") | H3: =IF(C3="","날짜 빈칸",IF(NOT(AND(ISNUMBER(C3),IFERROR(C3=INT(C3),FALSE),IFERROR(C3>=DATE(2000,1,1),FALSE),IFERROR(C3<DATE(2101,1,1),FALSE))),"날짜 값 오류",IF(D3="","상품 빈칸",IF(AND(E3="",NOT(ISNUMBER(E3))),"수량 빈칸",IF(NOT(ISNUMBER(E3)),"수량 값 오류",IF(E3<0,"수량 음수",IF(NOT(AND(ISNUMBER(E3),IFERROR(E3>=0,FALSE),IFERROR(E3=INT(E3),FALSE))),"수량 값 오류",IF(AND(F3="",NOT(ISNUMBER(F3))),"단가 빈칸",IF(NOT(ISNUMBER(F3)),"단가 값 오류",IF(F3<0,"단가 음수",IF(NOT(AND(ISNUMBER(F3),IFERROR(F3>=0,FALSE),IFERROR(F3=INT(F3),FALSE))),"단가 값 오류","정상")))))))))))
A4: =ROW('원본'!A4) | B4: =IF(ISBLANK('원본'!A4),"",'원본'!A4) | C4: =IF(ISBLANK('원본'!B4),"",'원본'!B4) | D4: =IF(ISBLANK('원본'!C4),"",'원본'!C4) | E4: 0 | F4: 4500 | G4: =IF(H4="정상",E4*F4,"") | H4: =IF(C4="","날짜 빈칸",IF(NOT(AND(ISNUMBER(C4),IFERROR(C4=INT(C4),FALSE),IFERROR(C4>=DATE(2000,1,1),FALSE),IFERROR(C4<DATE(2101,1,1),FALSE))),"날짜 값 오류",IF(D4="","상품 빈칸",IF(AND(E4="",NOT(ISNUMBER(E4))),"수량 빈칸",IF(NOT(ISNUMBER(E4)),"수량 값 오류",IF(E4<0,"수량 음수",IF(NOT(AND(ISNUMBER(E4),IFERROR(E4>=0,FALSE),IFERROR(E4=INT(E4),FALSE))),"수량 값 오류",IF(AND(F4="",NOT(ISNUMBER(F4))),"단가 빈칸",IF(NOT(ISNUMBER(F4)),"단가 값 오류",IF(F4<0,"단가 음수",IF(NOT(AND(ISNUMBER(F4),IFERROR(F4>=0,FALSE),IFERROR(F4=INT(F4),FALSE))),"단가 값 오류","정상")))))))))))
A5: =ROW('원본'!A5) | B5: =IF(ISBLANK('원본'!A5),"",'원본'!A5) | C5: =IF(ISBLANK('원본'!B5),"",'원본'!B5) | D5: =IF(ISBLANK('원본'!C5),"",'원본'!C5) | E5: 3 | G5: =IF(H5="정상",E5*F5,"") | H5: =IF(C5="","날짜 빈칸",IF(NOT(AND(ISNUMBER(C5),IFERROR(C5=INT(C5),FALSE),IFERROR(C5>=DATE(2000,1,1),FALSE),IFERROR(C5<DATE(2101,1,1),FALSE))),"날짜 값 오류",IF(D5="","상품 빈칸",IF(AND(E5="",NOT(ISNUMBER(E5))),"수량 빈칸",IF(NOT(ISNUMBER(E5)),"수량 값 오류",IF(E5<0,"수량 음수",IF(NOT(AND(ISNUMBER(E5),IFERROR(E5>=0,FALSE),IFERROR(E5=INT(E5),FALSE))),"수량 값 오류",IF(AND(F5="",NOT(ISNUMBER(F5))),"단가 빈칸",IF(NOT(ISNUMBER(F5)),"단가 값 오류",IF(F5<0,"단가 음수",IF(NOT(AND(ISNUMBER(F5),IFERROR(F5>=0,FALSE),IFERROR(F5=INT(F5),FALSE))),"단가 값 오류","정상")))))))))))
A6: =ROW('원본'!A6) | B6: =IF(ISBLANK('원본'!A6),"",'원본'!A6) | C6: =IF(ISBLANK('원본'!B6),"",'원본'!B6) | D6: =IF(ISBLANK('원본'!C6),"",'원본'!C6) | F6: 12000 | G6: =IF(H6="정상",E6*F6,"") | H6: =IF(C6="","날짜 빈칸",IF(NOT(AND(ISNUMBER(C6),IFERROR(C6=INT(C6),FALSE),IFERROR(C6>=DATE(2000,1,1),FALSE),IFERROR(C6<DATE(2101,1,1),FALSE))),"날짜 값 오류",IF(D6="","상품 빈칸",IF(AND(E6="",NOT(ISNUMBER(E6))),"수량 빈칸",IF(NOT(ISNUMBER(E6)),"수량 값 오류",IF(E6<0,"수량 음수",IF(NOT(AND(ISNUMBER(E6),IFERROR(E6>=0,FALSE),IFERROR(E6=INT(E6),FALSE))),"수량 값 오류",IF(AND(F6="",NOT(ISNUMBER(F6))),"단가 빈칸",IF(NOT(ISNUMBER(F6)),"단가 값 오류",IF(F6<0,"단가 음수",IF(NOT(AND(ISNUMBER(F6),IFERROR(F6>=0,FALSE),IFERROR(F6=INT(F6),FALSE))),"단가 값 오류","정상")))))))))))
A7: =ROW('원본'!A7) | B7: =IF(ISBLANK('원본'!A7),"",'원본'!A7) | C7: =IF(ISBLANK('원본'!B7),"",'원본'!B7) | D7: =IF(ISBLANK('원본'!C7),"",'원본'!C7) | E7: 확인 중 | F7: 3500 | G7: =IF(H7="정상",E7*F7,"") | H7: =IF(C7="","날짜 빈칸",IF(NOT(AND(ISNUMBER(C7),IFERROR(C7=INT(C7),FALSE),IFERROR(C7>=DATE(2000,1,1),FALSE),IFERROR(C7<DATE(2101,1,1),FALSE))),"날짜 값 오류",IF(D7="","상품 빈칸",IF(AND(E7="",NOT(ISNUMBER(E7))),"수량 빈칸",IF(NOT(ISNUMBER(E7)),"수량 값 오류",IF(E7<0,"수량 음수",IF(NOT(AND(ISNUMBER(E7),IFERROR(E7>=0,FALSE),IFERROR(E7=INT(E7),FALSE))),"수량 값 오류",IF(AND(F7="",NOT(ISNUMBER(F7))),"단가 빈칸",IF(NOT(ISNUMBER(F7)),"단가 값 오류",IF(F7<0,"단가 음수",IF(NOT(AND(ISNUMBER(F7),IFERROR(F7>=0,FALSE),IFERROR(F7=INT(F7),FALSE))),"단가 값 오류","정상")))))))))))
A8: =ROW('원본'!A8) | B8: =IF(ISBLANK('원본'!A8),"",'원본'!A8) | C8: =IF(ISBLANK('원본'!B8),"",'원본'!B8) | D8: =IF(ISBLANK('원본'!C8),"",'원본'!C8) | E8: 1 | F8: 4500 | G8: =IF(H8="정상",E8*F8,"") | H8: =IF(C8="","날짜 빈칸",IF(NOT(AND(ISNUMBER(C8),IFERROR(C8=INT(C8),FALSE),IFERROR(C8>=DATE(2000,1,1),FALSE),IFERROR(C8<DATE(2101,1,1),FALSE))),"날짜 값 오류",IF(D8="","상품 빈칸",IF(AND(E8="",NOT(ISNUMBER(E8))),"수량 빈칸",IF(NOT(ISNUMBER(E8)),"수량 값 오류",IF(E8<0,"수량 음수",IF(NOT(AND(ISNUMBER(E8),IFERROR(E8>=0,FALSE),IFERROR(E8=INT(E8),FALSE))),"수량 값 오류",IF(AND(F8="",NOT(ISNUMBER(F8))),"단가 빈칸",IF(NOT(ISNUMBER(F8)),"단가 값 오류",IF(F8<0,"단가 음수",IF(NOT(AND(ISNUMBER(F8),IFERROR(F8>=0,FALSE),IFERROR(F8=INT(F8),FALSE))),"단가 값 오류","정상")))))))))))
A9: =ROW('원본'!A9) | B9: =IF(ISBLANK('원본'!A9),"",'원본'!A9) | C9: =IF(ISBLANK('원본'!B9),"",'원본'!B9) | D9: =IF(ISBLANK('원본'!C9),"",'원본'!C9) | E9: 4 | F9: 3500 | G9: =IF(H9="정상",E9*F9,"") | H9: =IF(C9="","날짜 빈칸",IF(NOT(AND(ISNUMBER(C9),IFERROR(C9=INT(C9),FALSE),IFERROR(C9>=DATE(2000,1,1),FALSE),IFERROR(C9<DATE(2101,1,1),FALSE))),"날짜 값 오류",IF(D9="","상품 빈칸",IF(AND(E9="",NOT(ISNUMBER(E9))),"수량 빈칸",IF(NOT(ISNUMBER(E9)),"수량 값 오류",IF(E9<0,"수량 음수",IF(NOT(AND(ISNUMBER(E9),IFERROR(E9>=0,FALSE),IFERROR(E9=INT(E9),FALSE))),"수량 값 오류",IF(AND(F9="",NOT(ISNUMBER(F9))),"단가 빈칸",IF(NOT(ISNUMBER(F9)),"단가 값 오류",IF(F9<0,"단가 음수",IF(NOT(AND(ISNUMBER(F9),IFERROR(F9>=0,FALSE),IFERROR(F9=INT(F9),FALSE))),"단가 값 오류","정상")))))))))))
A10: =ROW('원본'!A10) | B10: =IF(ISBLANK('원본'!A10),"",'원본'!A10) | C10: =IF(ISBLANK('원본'!B10),"",'원본'!B10) | D10: =IF(ISBLANK('원본'!C10),"",'원본'!C10) | E10: 3 | F10: 4500 | G10: =IF(H10="정상",E10*F10,"") | H10: =IF(C10="","날짜 빈칸",IF(NOT(AND(ISNUMBER(C10),IFERROR(C10=INT(C10),FALSE),IFERROR(C10>=DATE(2000,1,1),FALSE),IFERROR(C10<DATE(2101,1,1),FALSE))),"날짜 값 오류",IF(D10="","상품 빈칸",IF(AND(E10="",NOT(ISNUMBER(E10))),"수량 빈칸",IF(NOT(ISNUMBER(E10)),"수량 값 오류",IF(E10<0,"수량 음수",IF(NOT(AND(ISNUMBER(E10),IFERROR(E10>=0,FALSE),IFERROR(E10=INT(E10),FALSE))),"수량 값 오류",IF(AND(F10="",NOT(ISNUMBER(F10))),"단가 빈칸",IF(NOT(ISNUMBER(F10)),"단가 값 오류",IF(F10<0,"단가 음수",IF(NOT(AND(ISNUMBER(F10),IFERROR(F10>=0,FALSE),IFERROR(F10=INT(F10),FALSE))),"단가 값 오류","정상")))))))))))
A11: =ROW('원본'!A11) | B11: =IF(ISBLANK('원본'!A11),"",'원본'!A11) | C11: =IF(ISBLANK('원본'!B11),"",'원본'!B11) | D11: =IF(ISBLANK('원본'!C11),"",'원본'!C11) | E11: -1 | F11: 3500 | G11: =IF(H11="정상",E11*F11,"") | H11: =IF(C11="","날짜 빈칸",IF(NOT(AND(ISNUMBER(C11),IFERROR(C11=INT(C11),FALSE),IFERROR(C11>=DATE(2000,1,1),FALSE),IFERROR(C11<DATE(2101,1,1),FALSE))),"날짜 값 오류",IF(D11="","상품 빈칸",IF(AND(E11="",NOT(ISNUMBER(E11))),"수량 빈칸",IF(NOT(ISNUMBER(E11)),"수량 값 오류",IF(E11<0,"수량 음수",IF(NOT(AND(ISNUMBER(E11),IFERROR(E11>=0,FALSE),IFERROR(E11=INT(E11),FALSE))),"수량 값 오류",IF(AND(F11="",NOT(ISNUMBER(F11))),"단가 빈칸",IF(NOT(ISNUMBER(F11)),"단가 값 오류",IF(F11<0,"단가 음수",IF(NOT(AND(ISNUMBER(F11),IFERROR(F11>=0,FALSE),IFERROR(F11=INT(F11),FALSE))),"단가 값 오류","정상")))))))))))

Sheet 상품별합계
A1: 상품별 월간 집계
A3: 집계 기준 월 | B3: 46327
A5: 상품 | B5: 수량 | C5: 금액(원) | D5: 건수
A6: 유자차 | B6: =SUMIFS('계산표'!$E$2:$E$11,'계산표'!$D$2:$D$11,$A6,'계산표'!$H$2:$H$11,"정상",'계산표'!$C$2:$C$11,">="&$B$3,'계산표'!$C$2:$C$11,"<"&EDATE($B$3,1)) | C6: =SUMIFS('계산표'!$G$2:$G$11,'계산표'!$D$2:$D$11,$A6,'계산표'!$H$2:$H$11,"정상",'계산표'!$C$2:$C$11,">="&$B$3,'계산표'!$C$2:$C$11,"<"&EDATE($B$3,1)) | D6: =COUNTIFS('계산표'!$D$2:$D$11,$A6,'계산표'!$H$2:$H$11,"정상",'계산표'!$C$2:$C$11,">="&$B$3,'계산표'!$C$2:$C$11,"<"&EDATE($B$3,1))
A7: 머그컵 | B7: =SUMIFS('계산표'!$E$2:$E$11,'계산표'!$D$2:$D$11,$A7,'계산표'!$H$2:$H$11,"정상",'계산표'!$C$2:$C$11,">="&$B$3,'계산표'!$C$2:$C$11,"<"&EDATE($B$3,1)) | C7: =SUMIFS('계산표'!$G$2:$G$11,'계산표'!$D$2:$D$11,$A7,'계산표'!$H$2:$H$11,"정상",'계산표'!$C$2:$C$11,">="&$B$3,'계산표'!$C$2:$C$11,"<"&EDATE($B$3,1)) | D7: =COUNTIFS('계산표'!$D$2:$D$11,$A7,'계산표'!$H$2:$H$11,"정상",'계산표'!$C$2:$C$11,">="&$B$3,'계산표'!$C$2:$C$11,"<"&EDATE($B$3,1))
A8: 티백 | B8: =SUMIFS('계산표'!$E$2:$E$11,'계산표'!$D$2:$D$11,$A8,'계산표'!$H$2:$H$11,"정상",'계산표'!$C$2:$C$11,">="&$B$3,'계산표'!$C$2:$C$11,"<"&EDATE($B$3,1)) | C8: =SUMIFS('계산표'!$G$2:$G$11,'계산표'!$D$2:$D$11,$A8,'계산표'!$H$2:$H$11,"정상",'계산표'!$C$2:$C$11,">="&$B$3,'계산표'!$C$2:$C$11,"<"&EDATE($B$3,1)) | D8: =COUNTIFS('계산표'!$D$2:$D$11,$A8,'계산표'!$H$2:$H$11,"정상",'계산표'!$C$2:$C$11,">="&$B$3,'계산표'!$C$2:$C$11,"<"&EDATE($B$3,1))
A9: 합계 | B9: =SUM(B6:B8) | C9: =SUM(C6:C8) | D9: =SUM(D6:D8)
A11: 집계 기준 | B11: 정상 행만 포함 | C11: 0원 정상 건 포함 | D11: 오류·빈칸 제외
