Workbook

Sheet 원본
A1: 기록번호 | B1: 날짜 | C1: 상품 | D1: 수량 | E1: 단가(원)
A2: E401 | B2: 46328 | C2: 스티커 | D2: 0 | E2: 1000
A3: E402 | B3: 46329 | C3: 노트 | D3: 2 | E3: 0
A4: E403 | B4: 46330 | C4: 노트 | E4: 1500
A5: E404 | C5: 스티커 | D5: 1 | E5: 1000
A6: E405 | B6: 2026-02-30 | C6: 노트 | D6: 1 | E6: 1500
A7: E406 | B7: 46331 | C7: 스티커 | D7: -2 | E7: 1000
A8: E407 | B8: 46332 | C8: 노트 | D8: 2 | E8: 1500
A9: E408 | B9: 46333 | D9: 1 | E9: 1500
A10: E409 | B10: 46335 | C10: 노트 | D10: 1 | E10: 무료

Sheet 계산표
A1: 원본행 | B1: 기록번호 | C1: 날짜 | D1: 상품 | E1: 수량 | F1: 단가(원) | G1: 금액(원) | H1: 확인할 점
A2: 2 | B2: E401 | C2: 46328 | D2: 스티커 | E2: 0 | F2: 1000 | G2: =IF(H2="정상",E2*F2,"") | H2: =IF(IF(ISBLANK(C2),"날짜 빈칸; ",IF(NOT(ISNUMBER(C2)),"날짜 잘못된 값; ",IF(OR(C2<DATE(2000,1,1),C2>=DATE(2101,1,1),C2<>INT(C2)),"날짜 잘못된 값; ","")))&IF(ISBLANK(D2),"상품 빈칸; ","")&IF(ISBLANK(E2),"수량 빈칸; ",IF(NOT(ISNUMBER(E2)),"수량 잘못된 값; ",IF(OR(E2<0,E2<>INT(E2)),"수량 잘못된 값; ","")))&IF(ISBLANK(F2),"단가 빈칸; ",IF(NOT(ISNUMBER(F2)),"단가 잘못된 값; ",IF(OR(F2<0,F2<>INT(F2)),"단가 잘못된 값; ","")))="","정상",IF(ISBLANK(C2),"날짜 빈칸; ",IF(NOT(ISNUMBER(C2)),"날짜 잘못된 값; ",IF(OR(C2<DATE(2000,1,1),C2>=DATE(2101,1,1),C2<>INT(C2)),"날짜 잘못된 값; ","")))&IF(ISBLANK(D2),"상품 빈칸; ","")&IF(ISBLANK(E2),"수량 빈칸; ",IF(NOT(ISNUMBER(E2)),"수량 잘못된 값; ",IF(OR(E2<0,E2<>INT(E2)),"수량 잘못된 값; ","")))&IF(ISBLANK(F2),"단가 빈칸; ",IF(NOT(ISNUMBER(F2)),"단가 잘못된 값; ",IF(OR(F2<0,F2<>INT(F2)),"단가 잘못된 값; ",""))))
A3: 3 | B3: E402 | C3: 46329 | D3: 노트 | E3: 2 | F3: 0 | G3: =IF(H3="정상",E3*F3,"") | H3: =IF(IF(ISBLANK(C3),"날짜 빈칸; ",IF(NOT(ISNUMBER(C3)),"날짜 잘못된 값; ",IF(OR(C3<DATE(2000,1,1),C3>=DATE(2101,1,1),C3<>INT(C3)),"날짜 잘못된 값; ","")))&IF(ISBLANK(D3),"상품 빈칸; ","")&IF(ISBLANK(E3),"수량 빈칸; ",IF(NOT(ISNUMBER(E3)),"수량 잘못된 값; ",IF(OR(E3<0,E3<>INT(E3)),"수량 잘못된 값; ","")))&IF(ISBLANK(F3),"단가 빈칸; ",IF(NOT(ISNUMBER(F3)),"단가 잘못된 값; ",IF(OR(F3<0,F3<>INT(F3)),"단가 잘못된 값; ","")))="","정상",IF(ISBLANK(C3),"날짜 빈칸; ",IF(NOT(ISNUMBER(C3)),"날짜 잘못된 값; ",IF(OR(C3<DATE(2000,1,1),C3>=DATE(2101,1,1),C3<>INT(C3)),"날짜 잘못된 값; ","")))&IF(ISBLANK(D3),"상품 빈칸; ","")&IF(ISBLANK(E3),"수량 빈칸; ",IF(NOT(ISNUMBER(E3)),"수량 잘못된 값; ",IF(OR(E3<0,E3<>INT(E3)),"수량 잘못된 값; ","")))&IF(ISBLANK(F3),"단가 빈칸; ",IF(NOT(ISNUMBER(F3)),"단가 잘못된 값; ",IF(OR(F3<0,F3<>INT(F3)),"단가 잘못된 값; ",""))))
A4: 4 | B4: E403 | C4: 46330 | D4: 노트 | F4: 1500 | G4: =IF(H4="정상",E4*F4,"") | H4: =IF(IF(ISBLANK(C4),"날짜 빈칸; ",IF(NOT(ISNUMBER(C4)),"날짜 잘못된 값; ",IF(OR(C4<DATE(2000,1,1),C4>=DATE(2101,1,1),C4<>INT(C4)),"날짜 잘못된 값; ","")))&IF(ISBLANK(D4),"상품 빈칸; ","")&IF(ISBLANK(E4),"수량 빈칸; ",IF(NOT(ISNUMBER(E4)),"수량 잘못된 값; ",IF(OR(E4<0,E4<>INT(E4)),"수량 잘못된 값; ","")))&IF(ISBLANK(F4),"단가 빈칸; ",IF(NOT(ISNUMBER(F4)),"단가 잘못된 값; ",IF(OR(F4<0,F4<>INT(F4)),"단가 잘못된 값; ","")))="","정상",IF(ISBLANK(C4),"날짜 빈칸; ",IF(NOT(ISNUMBER(C4)),"날짜 잘못된 값; ",IF(OR(C4<DATE(2000,1,1),C4>=DATE(2101,1,1),C4<>INT(C4)),"날짜 잘못된 값; ","")))&IF(ISBLANK(D4),"상품 빈칸; ","")&IF(ISBLANK(E4),"수량 빈칸; ",IF(NOT(ISNUMBER(E4)),"수량 잘못된 값; ",IF(OR(E4<0,E4<>INT(E4)),"수량 잘못된 값; ","")))&IF(ISBLANK(F4),"단가 빈칸; ",IF(NOT(ISNUMBER(F4)),"단가 잘못된 값; ",IF(OR(F4<0,F4<>INT(F4)),"단가 잘못된 값; ",""))))
A5: 5 | B5: E404 | D5: 스티커 | E5: 1 | F5: 1000 | G5: =IF(H5="정상",E5*F5,"") | H5: =IF(IF(ISBLANK(C5),"날짜 빈칸; ",IF(NOT(ISNUMBER(C5)),"날짜 잘못된 값; ",IF(OR(C5<DATE(2000,1,1),C5>=DATE(2101,1,1),C5<>INT(C5)),"날짜 잘못된 값; ","")))&IF(ISBLANK(D5),"상품 빈칸; ","")&IF(ISBLANK(E5),"수량 빈칸; ",IF(NOT(ISNUMBER(E5)),"수량 잘못된 값; ",IF(OR(E5<0,E5<>INT(E5)),"수량 잘못된 값; ","")))&IF(ISBLANK(F5),"단가 빈칸; ",IF(NOT(ISNUMBER(F5)),"단가 잘못된 값; ",IF(OR(F5<0,F5<>INT(F5)),"단가 잘못된 값; ","")))="","정상",IF(ISBLANK(C5),"날짜 빈칸; ",IF(NOT(ISNUMBER(C5)),"날짜 잘못된 값; ",IF(OR(C5<DATE(2000,1,1),C5>=DATE(2101,1,1),C5<>INT(C5)),"날짜 잘못된 값; ","")))&IF(ISBLANK(D5),"상품 빈칸; ","")&IF(ISBLANK(E5),"수량 빈칸; ",IF(NOT(ISNUMBER(E5)),"수량 잘못된 값; ",IF(OR(E5<0,E5<>INT(E5)),"수량 잘못된 값; ","")))&IF(ISBLANK(F5),"단가 빈칸; ",IF(NOT(ISNUMBER(F5)),"단가 잘못된 값; ",IF(OR(F5<0,F5<>INT(F5)),"단가 잘못된 값; ",""))))
A6: 6 | B6: E405 | C6: 2026-02-30 | D6: 노트 | E6: 1 | F6: 1500 | G6: =IF(H6="정상",E6*F6,"") | H6: =IF(IF(ISBLANK(C6),"날짜 빈칸; ",IF(NOT(ISNUMBER(C6)),"날짜 잘못된 값; ",IF(OR(C6<DATE(2000,1,1),C6>=DATE(2101,1,1),C6<>INT(C6)),"날짜 잘못된 값; ","")))&IF(ISBLANK(D6),"상품 빈칸; ","")&IF(ISBLANK(E6),"수량 빈칸; ",IF(NOT(ISNUMBER(E6)),"수량 잘못된 값; ",IF(OR(E6<0,E6<>INT(E6)),"수량 잘못된 값; ","")))&IF(ISBLANK(F6),"단가 빈칸; ",IF(NOT(ISNUMBER(F6)),"단가 잘못된 값; ",IF(OR(F6<0,F6<>INT(F6)),"단가 잘못된 값; ","")))="","정상",IF(ISBLANK(C6),"날짜 빈칸; ",IF(NOT(ISNUMBER(C6)),"날짜 잘못된 값; ",IF(OR(C6<DATE(2000,1,1),C6>=DATE(2101,1,1),C6<>INT(C6)),"날짜 잘못된 값; ","")))&IF(ISBLANK(D6),"상품 빈칸; ","")&IF(ISBLANK(E6),"수량 빈칸; ",IF(NOT(ISNUMBER(E6)),"수량 잘못된 값; ",IF(OR(E6<0,E6<>INT(E6)),"수량 잘못된 값; ","")))&IF(ISBLANK(F6),"단가 빈칸; ",IF(NOT(ISNUMBER(F6)),"단가 잘못된 값; ",IF(OR(F6<0,F6<>INT(F6)),"단가 잘못된 값; ",""))))
A7: 7 | B7: E406 | C7: 46331 | D7: 스티커 | E7: -2 | F7: 1000 | G7: =IF(H7="정상",E7*F7,"") | H7: =IF(IF(ISBLANK(C7),"날짜 빈칸; ",IF(NOT(ISNUMBER(C7)),"날짜 잘못된 값; ",IF(OR(C7<DATE(2000,1,1),C7>=DATE(2101,1,1),C7<>INT(C7)),"날짜 잘못된 값; ","")))&IF(ISBLANK(D7),"상품 빈칸; ","")&IF(ISBLANK(E7),"수량 빈칸; ",IF(NOT(ISNUMBER(E7)),"수량 잘못된 값; ",IF(OR(E7<0,E7<>INT(E7)),"수량 잘못된 값; ","")))&IF(ISBLANK(F7),"단가 빈칸; ",IF(NOT(ISNUMBER(F7)),"단가 잘못된 값; ",IF(OR(F7<0,F7<>INT(F7)),"단가 잘못된 값; ","")))="","정상",IF(ISBLANK(C7),"날짜 빈칸; ",IF(NOT(ISNUMBER(C7)),"날짜 잘못된 값; ",IF(OR(C7<DATE(2000,1,1),C7>=DATE(2101,1,1),C7<>INT(C7)),"날짜 잘못된 값; ","")))&IF(ISBLANK(D7),"상품 빈칸; ","")&IF(ISBLANK(E7),"수량 빈칸; ",IF(NOT(ISNUMBER(E7)),"수량 잘못된 값; ",IF(OR(E7<0,E7<>INT(E7)),"수량 잘못된 값; ","")))&IF(ISBLANK(F7),"단가 빈칸; ",IF(NOT(ISNUMBER(F7)),"단가 잘못된 값; ",IF(OR(F7<0,F7<>INT(F7)),"단가 잘못된 값; ",""))))
A8: 8 | B8: E407 | C8: 46332 | D8: 노트 | E8: 2 | F8: 1500 | G8: =IF(H8="정상",E8*F8,"") | H8: =IF(IF(ISBLANK(C8),"날짜 빈칸; ",IF(NOT(ISNUMBER(C8)),"날짜 잘못된 값; ",IF(OR(C8<DATE(2000,1,1),C8>=DATE(2101,1,1),C8<>INT(C8)),"날짜 잘못된 값; ","")))&IF(ISBLANK(D8),"상품 빈칸; ","")&IF(ISBLANK(E8),"수량 빈칸; ",IF(NOT(ISNUMBER(E8)),"수량 잘못된 값; ",IF(OR(E8<0,E8<>INT(E8)),"수량 잘못된 값; ","")))&IF(ISBLANK(F8),"단가 빈칸; ",IF(NOT(ISNUMBER(F8)),"단가 잘못된 값; ",IF(OR(F8<0,F8<>INT(F8)),"단가 잘못된 값; ","")))="","정상",IF(ISBLANK(C8),"날짜 빈칸; ",IF(NOT(ISNUMBER(C8)),"날짜 잘못된 값; ",IF(OR(C8<DATE(2000,1,1),C8>=DATE(2101,1,1),C8<>INT(C8)),"날짜 잘못된 값; ","")))&IF(ISBLANK(D8),"상품 빈칸; ","")&IF(ISBLANK(E8),"수량 빈칸; ",IF(NOT(ISNUMBER(E8)),"수량 잘못된 값; ",IF(OR(E8<0,E8<>INT(E8)),"수량 잘못된 값; ","")))&IF(ISBLANK(F8),"단가 빈칸; ",IF(NOT(ISNUMBER(F8)),"단가 잘못된 값; ",IF(OR(F8<0,F8<>INT(F8)),"단가 잘못된 값; ",""))))
A9: 9 | B9: E408 | C9: 46333 | E9: 1 | F9: 1500 | G9: =IF(H9="정상",E9*F9,"") | H9: =IF(IF(ISBLANK(C9),"날짜 빈칸; ",IF(NOT(ISNUMBER(C9)),"날짜 잘못된 값; ",IF(OR(C9<DATE(2000,1,1),C9>=DATE(2101,1,1),C9<>INT(C9)),"날짜 잘못된 값; ","")))&IF(ISBLANK(D9),"상품 빈칸; ","")&IF(ISBLANK(E9),"수량 빈칸; ",IF(NOT(ISNUMBER(E9)),"수량 잘못된 값; ",IF(OR(E9<0,E9<>INT(E9)),"수량 잘못된 값; ","")))&IF(ISBLANK(F9),"단가 빈칸; ",IF(NOT(ISNUMBER(F9)),"단가 잘못된 값; ",IF(OR(F9<0,F9<>INT(F9)),"단가 잘못된 값; ","")))="","정상",IF(ISBLANK(C9),"날짜 빈칸; ",IF(NOT(ISNUMBER(C9)),"날짜 잘못된 값; ",IF(OR(C9<DATE(2000,1,1),C9>=DATE(2101,1,1),C9<>INT(C9)),"날짜 잘못된 값; ","")))&IF(ISBLANK(D9),"상품 빈칸; ","")&IF(ISBLANK(E9),"수량 빈칸; ",IF(NOT(ISNUMBER(E9)),"수량 잘못된 값; ",IF(OR(E9<0,E9<>INT(E9)),"수량 잘못된 값; ","")))&IF(ISBLANK(F9),"단가 빈칸; ",IF(NOT(ISNUMBER(F9)),"단가 잘못된 값; ",IF(OR(F9<0,F9<>INT(F9)),"단가 잘못된 값; ",""))))
A10: 10 | B10: E409 | C10: 46335 | D10: 노트 | E10: 1 | F10: 무료 | G10: =IF(H10="정상",E10*F10,"") | H10: =IF(IF(ISBLANK(C10),"날짜 빈칸; ",IF(NOT(ISNUMBER(C10)),"날짜 잘못된 값; ",IF(OR(C10<DATE(2000,1,1),C10>=DATE(2101,1,1),C10<>INT(C10)),"날짜 잘못된 값; ","")))&IF(ISBLANK(D10),"상품 빈칸; ","")&IF(ISBLANK(E10),"수량 빈칸; ",IF(NOT(ISNUMBER(E10)),"수량 잘못된 값; ",IF(OR(E10<0,E10<>INT(E10)),"수량 잘못된 값; ","")))&IF(ISBLANK(F10),"단가 빈칸; ",IF(NOT(ISNUMBER(F10)),"단가 잘못된 값; ",IF(OR(F10<0,F10<>INT(F10)),"단가 잘못된 값; ","")))="","정상",IF(ISBLANK(C10),"날짜 빈칸; ",IF(NOT(ISNUMBER(C10)),"날짜 잘못된 값; ",IF(OR(C10<DATE(2000,1,1),C10>=DATE(2101,1,1),C10<>INT(C10)),"날짜 잘못된 값; ","")))&IF(ISBLANK(D10),"상품 빈칸; ","")&IF(ISBLANK(E10),"수량 빈칸; ",IF(NOT(ISNUMBER(E10)),"수량 잘못된 값; ",IF(OR(E10<0,E10<>INT(E10)),"수량 잘못된 값; ","")))&IF(ISBLANK(F10),"단가 빈칸; ",IF(NOT(ISNUMBER(F10)),"단가 잘못된 값; ",IF(OR(F10<0,F10<>INT(F10)),"단가 잘못된 값; ",""))))

Sheet 상품별합계
A1: 상품별 월간 집계
A3: 집계월 | B3: 46327
A5: 상품 | B5: 수량 | C5: 금액(원) | D5: 건수
A6: 스티커 | B6: =SUMIFS(계산표!$E$2:$E$10,계산표!$D$2:$D$10,$A6,계산표!$C$2:$C$10,">="&$B$3,계산표!$C$2:$C$10,"<"&EDATE($B$3,1),계산표!$H$2:$H$10,"정상") | C6: =SUMIFS(계산표!$G$2:$G$10,계산표!$D$2:$D$10,$A6,계산표!$C$2:$C$10,">="&$B$3,계산표!$C$2:$C$10,"<"&EDATE($B$3,1),계산표!$H$2:$H$10,"정상") | D6: =COUNTIFS(계산표!$D$2:$D$10,$A6,계산표!$C$2:$C$10,">="&$B$3,계산표!$C$2:$C$10,"<"&EDATE($B$3,1),계산표!$H$2:$H$10,"정상")
A7: 노트 | B7: =SUMIFS(계산표!$E$2:$E$10,계산표!$D$2:$D$10,$A7,계산표!$C$2:$C$10,">="&$B$3,계산표!$C$2:$C$10,"<"&EDATE($B$3,1),계산표!$H$2:$H$10,"정상") | C7: =SUMIFS(계산표!$G$2:$G$10,계산표!$D$2:$D$10,$A7,계산표!$C$2:$C$10,">="&$B$3,계산표!$C$2:$C$10,"<"&EDATE($B$3,1),계산표!$H$2:$H$10,"정상") | D7: =COUNTIFS(계산표!$D$2:$D$10,$A7,계산표!$C$2:$C$10,">="&$B$3,계산표!$C$2:$C$10,"<"&EDATE($B$3,1),계산표!$H$2:$H$10,"정상")
A8: 합계 | B8: =SUM(B6:B7) | C8: =SUM(C6:C7) | D8: =SUM(D6:D7)
