Workbook

Sheet 원본
A1: 기록번호 | B1: 날짜 | C1: 상품 | D1: 수량 | E1: 단가(원)
A2: N301 | B2: 46327 | C2: 꽃다발 | D2: 2 | E2: 18000
A3: N302 | B3: 46328 | C3: 포장지 | D3: 5 | E3: 1200
A4: N303 | B4: 46330 | C4: 꽃다발 | D4: 0 | E4: 18000
A5: N304 | B5: 46334 | C5: 리본 | D5: 3 | E5: 0
A6: N305 | B6: 46326 | C6: 꽃다발 | D6: 1 | E6: 18000

Sheet 계산표
A1: 원본행 | B1: 기록번호 | C1: 날짜 | D1: 상품 | E1: 수량 | F1: 단가(원) | G1: 금액(원) | H1: 확인할 점
A2: 2 | B2: N301 | C2: 46327 | D2: 꽃다발 | E2: 2 | F2: 18000 | G2: =IF(OR(H2="정상",H2="정상(0 포함)"),E2*F2,"") | H2: =IF(ISBLANK(C2),"날짜 빈칸",IF(ISNUMBER(C2)=FALSE,"날짜 잘못된 값",IF(C2<>INT(C2),"날짜 잘못된 값",IF(OR(YEAR(C2)<2000,YEAR(C2)>2100),"날짜 잘못된 값",IF(ISBLANK(D2),"상품 빈칸",IF(ISBLANK(E2),"수량 빈칸",IF(ISNUMBER(E2)=FALSE,"수량 잘못된 값",IF(OR(E2<0,E2<>INT(E2)),"수량 잘못된 값",IF(ISBLANK(F2),"단가 빈칸",IF(ISNUMBER(F2)=FALSE,"단가 잘못된 값",IF(OR(F2<0,F2<>INT(F2)),"단가 잘못된 값",IF(OR(E2=0,F2=0),"정상(0 포함)","정상"))))))))))))
A3: 3 | B3: N302 | C3: 46328 | D3: 포장지 | E3: 5 | F3: 1200 | G3: =IF(OR(H3="정상",H3="정상(0 포함)"),E3*F3,"") | H3: =IF(ISBLANK(C3),"날짜 빈칸",IF(ISNUMBER(C3)=FALSE,"날짜 잘못된 값",IF(C3<>INT(C3),"날짜 잘못된 값",IF(OR(YEAR(C3)<2000,YEAR(C3)>2100),"날짜 잘못된 값",IF(ISBLANK(D3),"상품 빈칸",IF(ISBLANK(E3),"수량 빈칸",IF(ISNUMBER(E3)=FALSE,"수량 잘못된 값",IF(OR(E3<0,E3<>INT(E3)),"수량 잘못된 값",IF(ISBLANK(F3),"단가 빈칸",IF(ISNUMBER(F3)=FALSE,"단가 잘못된 값",IF(OR(F3<0,F3<>INT(F3)),"단가 잘못된 값",IF(OR(E3=0,F3=0),"정상(0 포함)","정상"))))))))))))
A4: 4 | B4: N303 | C4: 46330 | D4: 꽃다발 | E4: 0 | F4: 18000 | G4: =IF(OR(H4="정상",H4="정상(0 포함)"),E4*F4,"") | H4: =IF(ISBLANK(C4),"날짜 빈칸",IF(ISNUMBER(C4)=FALSE,"날짜 잘못된 값",IF(C4<>INT(C4),"날짜 잘못된 값",IF(OR(YEAR(C4)<2000,YEAR(C4)>2100),"날짜 잘못된 값",IF(ISBLANK(D4),"상품 빈칸",IF(ISBLANK(E4),"수량 빈칸",IF(ISNUMBER(E4)=FALSE,"수량 잘못된 값",IF(OR(E4<0,E4<>INT(E4)),"수량 잘못된 값",IF(ISBLANK(F4),"단가 빈칸",IF(ISNUMBER(F4)=FALSE,"단가 잘못된 값",IF(OR(F4<0,F4<>INT(F4)),"단가 잘못된 값",IF(OR(E4=0,F4=0),"정상(0 포함)","정상"))))))))))))
A5: 5 | B5: N304 | C5: 46334 | D5: 리본 | E5: 3 | F5: 0 | G5: =IF(OR(H5="정상",H5="정상(0 포함)"),E5*F5,"") | H5: =IF(ISBLANK(C5),"날짜 빈칸",IF(ISNUMBER(C5)=FALSE,"날짜 잘못된 값",IF(C5<>INT(C5),"날짜 잘못된 값",IF(OR(YEAR(C5)<2000,YEAR(C5)>2100),"날짜 잘못된 값",IF(ISBLANK(D5),"상품 빈칸",IF(ISBLANK(E5),"수량 빈칸",IF(ISNUMBER(E5)=FALSE,"수량 잘못된 값",IF(OR(E5<0,E5<>INT(E5)),"수량 잘못된 값",IF(ISBLANK(F5),"단가 빈칸",IF(ISNUMBER(F5)=FALSE,"단가 잘못된 값",IF(OR(F5<0,F5<>INT(F5)),"단가 잘못된 값",IF(OR(E5=0,F5=0),"정상(0 포함)","정상"))))))))))))
A6: 6 | B6: N305 | C6: 46326 | D6: 꽃다발 | E6: 1 | F6: 18000 | G6: =IF(OR(H6="정상",H6="정상(0 포함)"),E6*F6,"") | H6: =IF(ISBLANK(C6),"날짜 빈칸",IF(ISNUMBER(C6)=FALSE,"날짜 잘못된 값",IF(C6<>INT(C6),"날짜 잘못된 값",IF(OR(YEAR(C6)<2000,YEAR(C6)>2100),"날짜 잘못된 값",IF(ISBLANK(D6),"상품 빈칸",IF(ISBLANK(E6),"수량 빈칸",IF(ISNUMBER(E6)=FALSE,"수량 잘못된 값",IF(OR(E6<0,E6<>INT(E6)),"수량 잘못된 값",IF(ISBLANK(F6),"단가 빈칸",IF(ISNUMBER(F6)=FALSE,"단가 잘못된 값",IF(OR(F6<0,F6<>INT(F6)),"단가 잘못된 값",IF(OR(E6=0,F6=0),"정상(0 포함)","정상"))))))))))))

Sheet 상품별합계
A1: 상품별 집계표
A2: 집계 기준 | B2: 값
A3: 집계 월 | B3: 46327
A5: 상품 | B5: 수량 | C5: 금액(원) | D5: 건수
A6: 꽃다발 | B6: =SUMIFS(계산표!$E$2:$E$6,계산표!$D$2:$D$6,$A6,계산표!$C$2:$C$6,">="&$B$3,계산표!$C$2:$C$6,"<"&DATE(YEAR($B$3),MONTH($B$3)+1,1),계산표!$H$2:$H$6,"정상")+SUMIFS(계산표!$E$2:$E$6,계산표!$D$2:$D$6,$A6,계산표!$C$2:$C$6,">="&$B$3,계산표!$C$2:$C$6,"<"&DATE(YEAR($B$3),MONTH($B$3)+1,1),계산표!$H$2:$H$6,"정상(0 포함)") | C6: =SUMIFS(계산표!$G$2:$G$6,계산표!$D$2:$D$6,$A6,계산표!$C$2:$C$6,">="&$B$3,계산표!$C$2:$C$6,"<"&DATE(YEAR($B$3),MONTH($B$3)+1,1),계산표!$H$2:$H$6,"정상")+SUMIFS(계산표!$G$2:$G$6,계산표!$D$2:$D$6,$A6,계산표!$C$2:$C$6,">="&$B$3,계산표!$C$2:$C$6,"<"&DATE(YEAR($B$3),MONTH($B$3)+1,1),계산표!$H$2:$H$6,"정상(0 포함)") | D6: =COUNTIFS(계산표!$D$2:$D$6,$A6,계산표!$C$2:$C$6,">="&$B$3,계산표!$C$2:$C$6,"<"&DATE(YEAR($B$3),MONTH($B$3)+1,1),계산표!$H$2:$H$6,"정상")+COUNTIFS(계산표!$D$2:$D$6,$A6,계산표!$C$2:$C$6,">="&$B$3,계산표!$C$2:$C$6,"<"&DATE(YEAR($B$3),MONTH($B$3)+1,1),계산표!$H$2:$H$6,"정상(0 포함)")
A7: 포장지 | B7: =SUMIFS(계산표!$E$2:$E$6,계산표!$D$2:$D$6,$A7,계산표!$C$2:$C$6,">="&$B$3,계산표!$C$2:$C$6,"<"&DATE(YEAR($B$3),MONTH($B$3)+1,1),계산표!$H$2:$H$6,"정상")+SUMIFS(계산표!$E$2:$E$6,계산표!$D$2:$D$6,$A7,계산표!$C$2:$C$6,">="&$B$3,계산표!$C$2:$C$6,"<"&DATE(YEAR($B$3),MONTH($B$3)+1,1),계산표!$H$2:$H$6,"정상(0 포함)") | C7: =SUMIFS(계산표!$G$2:$G$6,계산표!$D$2:$D$6,$A7,계산표!$C$2:$C$6,">="&$B$3,계산표!$C$2:$C$6,"<"&DATE(YEAR($B$3),MONTH($B$3)+1,1),계산표!$H$2:$H$6,"정상")+SUMIFS(계산표!$G$2:$G$6,계산표!$D$2:$D$6,$A7,계산표!$C$2:$C$6,">="&$B$3,계산표!$C$2:$C$6,"<"&DATE(YEAR($B$3),MONTH($B$3)+1,1),계산표!$H$2:$H$6,"정상(0 포함)") | D7: =COUNTIFS(계산표!$D$2:$D$6,$A7,계산표!$C$2:$C$6,">="&$B$3,계산표!$C$2:$C$6,"<"&DATE(YEAR($B$3),MONTH($B$3)+1,1),계산표!$H$2:$H$6,"정상")+COUNTIFS(계산표!$D$2:$D$6,$A7,계산표!$C$2:$C$6,">="&$B$3,계산표!$C$2:$C$6,"<"&DATE(YEAR($B$3),MONTH($B$3)+1,1),계산표!$H$2:$H$6,"정상(0 포함)")
A8: 리본 | B8: =SUMIFS(계산표!$E$2:$E$6,계산표!$D$2:$D$6,$A8,계산표!$C$2:$C$6,">="&$B$3,계산표!$C$2:$C$6,"<"&DATE(YEAR($B$3),MONTH($B$3)+1,1),계산표!$H$2:$H$6,"정상")+SUMIFS(계산표!$E$2:$E$6,계산표!$D$2:$D$6,$A8,계산표!$C$2:$C$6,">="&$B$3,계산표!$C$2:$C$6,"<"&DATE(YEAR($B$3),MONTH($B$3)+1,1),계산표!$H$2:$H$6,"정상(0 포함)") | C8: =SUMIFS(계산표!$G$2:$G$6,계산표!$D$2:$D$6,$A8,계산표!$C$2:$C$6,">="&$B$3,계산표!$C$2:$C$6,"<"&DATE(YEAR($B$3),MONTH($B$3)+1,1),계산표!$H$2:$H$6,"정상")+SUMIFS(계산표!$G$2:$G$6,계산표!$D$2:$D$6,$A8,계산표!$C$2:$C$6,">="&$B$3,계산표!$C$2:$C$6,"<"&DATE(YEAR($B$3),MONTH($B$3)+1,1),계산표!$H$2:$H$6,"정상(0 포함)") | D8: =COUNTIFS(계산표!$D$2:$D$6,$A8,계산표!$C$2:$C$6,">="&$B$3,계산표!$C$2:$C$6,"<"&DATE(YEAR($B$3),MONTH($B$3)+1,1),계산표!$H$2:$H$6,"정상")+COUNTIFS(계산표!$D$2:$D$6,$A8,계산표!$C$2:$C$6,">="&$B$3,계산표!$C$2:$C$6,"<"&DATE(YEAR($B$3),MONTH($B$3)+1,1),계산표!$H$2:$H$6,"정상(0 포함)")
A9: 합계 | B9: =SUM(B6:B8) | C9: =SUM(C6:C8) | D9: =SUM(D6:D8)
